Workbook

Sheet Vejledning
B1: Vejledning til budgetskabelon
B3: Om budgetskabelonen Det er en forudsætning for at modtage puljetilskud fra Styrelsen for International Rekruttering og Integration (SIRI), at tilskudsmodtager har udarbejdet et budget ved at udfylde SIRIs aktuelle budgetskabelon. Budgettet skal dække hele projektperioden og skal indeholde alle forventede udgifter. Budgettet skal godkendes af SIRI, før tilskuddet kan udbetales. Hvis budgettet ændres væsentligt, skal tilskudsmodtager indsende revideret budget til SIRI med en forklaring på ændringerne. Ændringerne og det reviderede budget skal godkendes af SIRI. Tilskuddet må kun anvendes til at dække de udgifter, der er nævnt i budgettet. Det senest godkendte budget skal danne grundlag for regnskabsaflæggelse, og væsentlige afvigelser fra budgettet skal årsagsforklares. Tilføjelse af ekstra linjer: Det er muligt at tilføje ekstra linjer i budgetskabelonen, hvis der er behov for det. Det kan fx være yderligere medarbejdere under 'Lønudgifter' eller andre særlige udgifter, som ikke er nævnt. Hold musen under den linje, hvor der skal indsættes nye linjer, højreklik, vælg 'Indsæt'. Spørgsmål: Spørgsmål om udarbejdelse og indsendelse af budget kan sendes til pulje@siri.dk. Udfyldelse af generelle informationer Projektets titel: Skal være identisk med den projekttitel, som er anført i ansøgningen. Projektperiode: Anfør projektets start- og slutdato. Modtagergrupper: Vælg den modtagergruppe, som matcher organisationen. Modtagergruppen har betydning for, hvordan SIRI tilrettelægger udbetalingen af tilskudsmidler. Grupperne defineres således: I. Stat og selvstændige offentlige virksomheder Statsinstitutioner og statsfinansierede selvejende institutioner, der er omfattet af § 2, stk. 1, nr. 1 og 2, i Bekendtgørelse om statens regnskabsvæsen mv. samt selvstændige offentlige virksomheder, der er omfattet af rigsrevisorlovens § 2, og som derfor revideres af Rigsrevisionen. II. Kommuner og regioner Kommuner, regioner samt kommunale eller regionale organisationer og selskaber, herunder kommunale fællesskaber oprettet i henhold til lov om kommunernes styrelse. III. Mellemstore/store private virksomheder og velgørenhedsorganisationer Organisationer, som falder uden for gruppe I og II, som beskæftiger minimum 50 årsværk, og som har en årlig omsætning eller årlig samlet balance på over DKK 75 mio. VI. Små private virksomheder og velgørenhedsorganisationer samt enkeltpersoner Organisationer, som falder uden for gruppe I, II og III, samt enkeltpersoner. Hvis tilskud gives til en enkeltperson udelukkende i kraft af deres ansættelsesforhold (fx en forsker ansat ved et universitet), er ansættelsesstedet bestemmende for modtagergruppen. | H3: Udfyldelse af forventede udgifter Det er vigtigt at udfylde alle udgiftsfelter korrekt, da budgettet ellers kan blive afvist af SIRI. Det er muligt at udfylde op til 4 budgetår, som står på hvert sit faneblad. Skabelonen udregner selv projektets samlede udgifter, som vises på fanebladet 'Samlet budget'. Lønudgifter: Anfør for hver ansat medarbejder/timelønnet ekstern konsulent både jobtitel/funktion, antal timer og sats pr. time. SIRI skal til enhver tid kunne indhente dokumentation for timeregnskab, hvis behovet opstår. Det er altså ikke nok at skrive fx '1 projektmedarbejder á DKK 375.000'. Jf. Økonomistyrelsens vejledning, når lønudgiften indregnes på grundlag af en beregnet timesats, skal der anvendes en beregningsteknisk årsnorm på 1.642 timer for den beregnede timesats. Årsnormen svarer til et årsværk på 1.924 timer fraregnet ferie og søgne-/helligdag. Lønniveauet må ikke være højere end det, der er aftalt i de statslige overenskomster for tilsvarende arbejde. Transportudgifter: Anfør udgifter til transport, som er nødvendige for projektets afvikling. Tilskud til transport gives primært til offentlig transport. Hvis det ikke er muligt at anvende offentlig transport, kan der gives tilskud til transport i egen bil. Udgifter til offentlig transport angives som samlet beløb. Udgifter til transport i egen bil angives med antal kilometer og kilometersats, som skal være statens laveste takstsats, jf. statens cirkulære om satsregulering for tjenesterejser. Administrationsudgifter: Angiv udgifter til forsikringer, revision, bogføring mv., som er nødvendige for projektets afvikling. Projektet skal selv sørge for at tegne de nødvendige og lovpligtige forsikringer, herunder arbejdsskadeforsikringer. Desuden er projektet forpligtet til såvidt muligt at tegne forsikring mod sygdom og sørge for, at projektet er omfattet af en barselsudligningsordning. Revision skal udføres af en statsautoriseret eller registreret revisor for alle projekter med en bevilling på 100.000 kr. og derover. Hvis projektets bevilling er under 100.000 kr., kan regnskabet i stedet påtegnes af ledelse eller bestyrelsesformand. Udgifter til bogføring skal angives særskilt, også hvis denne udføres af revisor. Beløbet må ikke slås sammen med udgifter til revision. Driftsudgifter: Angiv driftsudgifter, som er nødvendige for projektets afvikling. Det kan fx være indkøb af materialer, udstyr og inventar, som ikke må overstige 50.000 kr. pr. budgetår. Der kan også gives tilskud til leje af lokaler og tilhørende udstyr, men ikke til anlæg (fx ombygning og renovering). Det er dog muligt at få tilskud til tryghedsfremmende indretning. Driftsudgifter kan også være deltagelse i nødvendige kurser og konferencer samt forplejning i forbindelse med disse. Medfinansiering: Hvis projektet modtager støtte fra andre end SIRI, skal beløbet anføres. | N3: Overheadudgifter: Tilskudsmidler kan anvendes til udgifter til overhead, som kan opgøres til 18 % af de tilskudsberettigede direkte lønudgifter. Overheadudgifter omfatter typisk lønomkostninger til generel ledelse og støttefunktioner samt fælles driftsomkostninger til fx husleje og it, jf. Økonomistyrelsens vejledning Regelgrundlag for generelle fællesomkostninger. Moms: Som hovedregel dækker tilskud købsmoms, og beløb skal derfor angives inkl. købsmoms. Tilskudsmodtagere, der er omfattet af en momskompensationsordning eller på anden vis får dækket eller afløftet momsen, skal dog angive beløb ekskl. købsmoms.

Sheet Samlet budget
B1: Samlet budget for puljetilskud
B3: Projektets titel
B4: Projektperiode
B5: Tilskudsmodtagers navn
B6: Tilskudsmodtagers CVR-nr.
B7: Tilskudsmodtagers adresse
B8: Tilskudsmodtagers tlf.nr.
B9: Modtagergruppe | C9: (Vælg fra drop down-menu)
B10: Ansøgt beløb (udfyldes automatisk) | C10: ='1. Budgetår'!C3:E3+'2. Budgetår'!C3:E3+'3. Budgetår'!C3:E3 -> 0
B11: Dato for udfyldelse af skabelon
B13: Samlet budget for hele projektperioden
B14: Lønudgifter | E14: Samlet beløb
B15: Samlede lønudgifter År 1 | E15: =SUM('1. Budgetår'!E8:E12) -> 0
B16: Samlede lønudgifter År 2 | E16: =SUM('2. Budgetår'!E8:E12) -> 0
B17: Samlede lønudgifter År 3 | E17: =SUM('3. Budgetår'!E8:E12) -> 0
B18: Samlede lønudgifter År 4 | E18: =SUM('3. Budgetår'!E9:E13) -> 0
B19: Transportudgifter | E19: Samlet beløb
B20: Offentlig transport | E20: ='1. Budgetår'!E14+'2. Budgetår'!E14+'3. Budgetår'!E14 -> 0
B21: Transport i egen bil | E21: ='1. Budgetår'!E15+'2. Budgetår'!E15+'3. Budgetår'!E15 -> 0
B22: Administrationsudgifter | E22: Samlet beløb
B23: Forsikringer | E23: ='1. Budgetår'!E17+'2. Budgetår'!E17+'3. Budgetår'!E17 -> 0
B24: Revision | E24: ='1. Budgetår'!E18+'2. Budgetår'!E18+'3. Budgetår'!E18 -> 0
B25: Bogføring | E25: ='1. Budgetår'!E19+'2. Budgetår'!E19+'3. Budgetår'!E19 -> 0
B26: Andre administrationsudgifter | E26: ='1. Budgetår'!E20+'2. Budgetår'!E20+'3. Budgetår'!E20 -> 0
B27: Driftsudgifter | E27: Samlet beløb
B28: Indkøb af materialer, udstyr og inventar | E28: ='1. Budgetår'!E22+'2. Budgetår'!E22+'3. Budgetår'!E22 -> 0
B29: Leje af lokale og tilhørende udstyr | E29: ='1. Budgetår'!E23+'2. Budgetår'!E23+'3. Budgetår'!E23 -> 0
B30: Deltagelse i kurser og konferencer | E30: ='1. Budgetår'!E24+'2. Budgetår'!E24+'3. Budgetår'!E24 -> 0
B31: Forplejning ved kurser og konferencer | E31: ='1. Budgetår'!E25+'2. Budgetår'!E25+'3. Budgetår'!E25 -> 0
B32: Andre driftsudgifter | E32: ='1. Budgetår'!E26+'2. Budgetår'!E26+'3. Budgetår'!E26 -> 0
B33: Udgifter i alt | E33: =SUM(E15:E32) -> 0

Sheet 1. Budgetår
B1: 1. Budgetår for puljetilskud
B3: Ansøgt beløb (udfyldes automatisk) | C3: =E27 -> 0
B4: Dato for udfyldelse af skabelon
B6: 1. Budgetår
B7: Lønudgifter | C7: Antal timer | D7: Sats pr. time | E7: Beløb
B8: Løn til projektleder | C8: 0 | D8: 0 | E8: =C8*D8 -> 0
B9: Løn til | C9: 0 | D9: 0 | E9: =C9*D9 -> 0
B10: Løn til | C10: 0 | D10: 0 | E10: =C10*D10 -> 0
B11: Løn til | C11: 0 | D11: 0 | E11: =C11*D11 -> 0
B12: Løn til | C12: 0 | D12: 0 | E12: =C12*D12 -> 0
B13: Transportudgifter | C13: Antal km. | D13: Sats pr. km. | E13: Beløb
B14: Offentlig transport | E14: 0
B15: Transport i egen bil | C15: 0 | D15: 2.23 | E15: =C15*D15 -> 0
B16: Administrationsudgifter | E16: Beløb
B17: Forsikringer | E17: 0
B18: Revision | E18: 0
B19: Bogføring | E19: 0
B20: Andre administrationsudgifter | E20: 0
B21: Driftsudgifter | E21: Beløb
B22: Indkøb af materialer, udstyr og inventar (maks. DKK 50.000) | E22: 0
B23: Leje af lokale og tilhørende udstyr | E23: 0
B24: Deltagelse i kurser og konferencer | E24: 0
B25: Forplejning ved kurser og konferencer | E25: 0
B26: Andre driftsudgifter | E26: 0
B27: Udgifter i alt | E27: =SUM(E8:E26) -> 0
B29: Evt. medfinansiering, beløb | E29: 0
B31: Evt. bemærkninger til budgettet (udspecificering af satser, antal, stykpris, omfang mv.)

Sheet 2. Budgetår
B1: 2. Budgetår for puljetilskud
B3: Ansøgt beløb (udfyldes automatisk) | C3: =E27 -> 0
B4: Dato for udfyldelse af skabelon
B6: 2. Budgetår
B7: Lønudgifter | C7: Antal timer | D7: Sats pr. time | E7: Beløb
B8: Løn til projektleder | C8: 0 | D8: 0 | E8: =C8*D8 -> 0
B9: Løn til | C9: 0 | D9: 0 | E9: =C9*D9 -> 0
B10: Løn til | C10: 0 | D10: 0 | E10: =C10*D10 -> 0
B11: Løn til | C11: 0 | D11: 0 | E11: =C11*D11 -> 0
B12: Løn til | C12: 0 | D12: 0 | E12: =C12*D12 -> 0
B13: Transportudgifter | C13: Antal km. | D13: Sats pr. km. | E13: Beløb
B14: Offentlig transport | E14: 0
B15: Transport i egen bil | C15: 0 | D15: 0 | E15: =C15*D15 -> 0
B16: Administrationsudgifter | E16: Beløb
B17: Forsikringer | E17: 0
B18: Revision | E18: 0
B19: Bogføring | E19: 0
B20: Andre administrationsudgifter | E20: 0
B21: Driftsudgifter | E21: Beløb
B22: Indkøb af materialer, udstyr og inventar (maks. DKK 50.000) | E22: 0
B23: Leje af lokale og tilhørende udstyr | E23: 0
B24: Deltagelse i kurser og konferencer | E24: 0
B25: Forplejning ved kurser og konferencer | E25: 0
B26: Andre driftsudgifter | E26: 0
B27: Udgifter i alt | E27: =SUM(E8:E26) -> 0
B29: Evt. medfinansiering, beløb | E29: 0
B31: Evt. bemærkninger til budgettet (udspecificering af satser, antal, stykpris, omfang mv.)

Sheet 3. Budgetår
B1: 3. Budgetår for puljetilskud
B3: Ansøgt beløb (udfyldes automatisk) | C3: =+E27 -> 0
B4: Dato for udfyldelse af skabelon
B6: 3. Budgetår
B7: Lønudgifter | C7: Antal timer | D7: Sats pr. time | E7: Beløb
B8: Løn til projektleder | C8: 0 | D8: 0 | E8: =C8*D8 -> 0
B9: Løn til | C9: 0 | D9: 0 | E9: =C9*D9 -> 0
B10: Løn til | C10: 0 | D10: 0 | E10: =C10*D10 -> 0
B11: Løn til | C11: 0 | D11: 0 | E11: =C11*D11 -> 0
B12: Løn til | C12: 0 | D12: 0 | E12: =C12*D12 -> 0
B13: Transportudgifter | C13: Antal km. | D13: Sats pr. km. | E13: Beløb
B14: Offentlig transport | E14: 0
B15: Transport i egen bil | C15: 0 | D15: 0 | E15: =C15*D15 -> 0
B16: Administrationsudgifter | E16: Beløb
B17: Forsikringer | E17: 0
B18: Revision | E18: 0
B19: Bogføring | E19: 0
B20: Andre administrationsudgifter | E20: 0
B21: Driftsudgifter | E21: Beløb
B22: Indkøb af materialer, udstyr og inventar (maks. DKK 50.000) | E22: 0
B23: Leje af lokale og tilhørende udstyr | E23: 0
B24: Deltagelse i kurser og konferencer | E24: 0
B25: Forplejning ved kurser og konferencer | E25: 0
B26: Andre driftsudgifter | E26: 0
B27: Udgifter i alt | E27: =SUM(E8:E26) -> 0
B29: Evt. medfinansiering, beløb | E29: 0
B31: Evt. bemærkninger til budgettet (udspecificering af satser, antal, stykpris, omfang mv.)

Sheet 4. Budgetår
B1: 4. Budgetår for puljetilskud
B3: Ansøgt beløb (udfyldes automatisk) | C3: =+E27 -> 0
B4: Dato for udfyldelse af skabelon
B6: 4. Budgetår
B7: Lønudgifter | C7: Antal timer | D7: Sats pr. time | E7: Beløb
B8: Løn til projektleder | C8: 0 | D8: 0 | E8: =C8*D8 -> 0
B9: Løn til | C9: 0 | D9: 0 | E9: =C9*D9 -> 0
B10: Løn til | C10: 0 | D10: 0 | E10: =C10*D10 -> 0
B11: Løn til | C11: 0 | D11: 0 | E11: =C11*D11 -> 0
B12: Løn til | C12: 0 | D12: 0 | E12: =C12*D12 -> 0
B13: Transportudgifter | C13: Antal km. | D13: Sats pr. km. | E13: Beløb
B14: Offentlig transport | E14: 0
B15: Transport i egen bil | C15: 0 | D15: 0 | E15: =C15*D15 -> 0
B16: Administrationsudgifter | E16: Beløb
B17: Forsikringer | E17: 0
B18: Revision | E18: 0
B19: Bogføring | E19: 0
B20: Andre administrationsudgifter | E20: 0
B21: Driftsudgifter | E21: Beløb
B22: Indkøb af materialer, udstyr og inventar (maks. DKK 50.000) | E22: 0
B23: Leje af lokale og tilhørende udstyr | E23: 0
B24: Deltagelse i kurser og konferencer | E24: 0
B25: Forplejning ved kurser og konferencer | E25: 0
B26: Andre driftsudgifter | E26: 0
B27: Udgifter i alt | E27: =SUM(E8:E26) -> 0
B29: Evt. medfinansiering, beløb | E29: 0
B31: Evt. bemærkninger til budgettet (udspecificering af satser, antal, stykpris, omfang mv.)

Sheet Liste
A1: (Vælg fra drop down-menu)
A2: I. Stat og selvstændige offentlige virksomheder
A3: II. Kommuner og regioner
A4: III. Mellemstore, store private virksomheder og velgørenhedsorganisationer
A5: VI. Små private virksomheder, enkeltpersoner og velgørenhedsorganisationer
